BEGIN:VCALENDAR
VERSION:2.0
PRODID:-//Tukios.com/
BEGIN:VEVENT
UID:a9ec22f4-31de-4d93-ab19-2798da2de91c@www.palmettofuneralgroup.com
DTSTAMP:20260425T185030Z
DTSTART:20260428T223000Z
DTEND:20260428T233000Z
SUMMARY:Memorial Service
DESCRIPTION:
URL:https://www.palmettofuneralgroup.com/obituaries/paul-lail
LOCATION:Palmetto Funeral Home 2049 Carolina Place Drive  Fort Mill SC 
	29708
GEO:35.0349276;-80.9658282
END:VEVENT
END:VCALENDAR