BEGIN:VCALENDAR
VERSION:2.0
PRODID:-//Tukios.com/
BEGIN:VEVENT
UID:30bc3604-a41c-4dba-bcc8-f48df215ac4f@www.palmettofuneralgroup.com
DTSTAMP:20260425T185137Z
DTSTART:20260428T220000Z
DTEND:20260428T223000Z
SUMMARY:Visitation
DESCRIPTION:
URL:https://www.palmettofuneralgroup.com/obituaries/paul-lail
LOCATION:Palmetto Funeral Home 2049 Carolina Place Drive  Fort Mill SC 
	29708
GEO:35.0349276;-80.9658282
END:VEVENT
END:VCALENDAR