BEGIN:VCALENDAR
VERSION:2.0
PRODID:-//Tukios.com/
BEGIN:VEVENT
UID:7dfd765c-7b10-4e84-a34f-a6cc0208b6bb@www.palmettofuneralgroup.com
DTSTAMP:20260424T193448Z
DTSTART:20260428T180000Z
DTEND:20260428T190000Z
SUMMARY:Graveside Service
DESCRIPTION:
URL:https://www.palmettofuneralgroup.com/obituaries/lucille-rollings
LOCATION: 700 Heckle Blvd  Rock Hill SC 29730
GEO:34.927834;-81.0560164
END:VEVENT
END:VCALENDAR