BEGIN:VCALENDAR
VERSION:2.0
PRODID:-//Tukios.com/
BEGIN:VEVENT
UID:6319cf06-b888-4db6-9ae5-c38fa96429d4@www.palmettofuneralgroup.com
DTSTAMP:20260424T205426Z
DTSTART:20260501T180000Z
DTEND:20260501T190000Z
SUMMARY:Visitation
DESCRIPTION:
URL:https://www.palmettofuneralgroup.com/obituaries/james-sullivan
LOCATION:Cornerstone UMC 2697 Heckle Boulevard  Rock Hill SC 29732
GEO:34.971284;-81.0740207
END:VEVENT
END:VCALENDAR