BEGIN:VCALENDAR
VERSION:2.0
PRODID:-//Tukios.com/
BEGIN:VEVENT
UID:dedf27ea-a490-4d0d-8438-8a81179e5ef2@www.palmettofuneralgroup.com
DTSTAMP:20260424T205517Z
DTSTART:20260501T190000Z
DTEND:20260501T200000Z
SUMMARY:Celebration of Life
DESCRIPTION:
URL:https://www.palmettofuneralgroup.com/obituaries/james-sullivan
LOCATION:Cornerstone UMC 2697 Heckle Boulevard  Rock Hill SC 29732
GEO:34.971284;-81.0740207
END:VEVENT
END:VCALENDAR