BEGIN:VCALENDAR
VERSION:2.0
PRODID:-//Tukios.com/
BEGIN:VEVENT
UID:c3785a11-5d9c-440b-ae29-089f1c63b065@www.palmettofuneralgroup.com
DTSTAMP:20260421T211504Z
DTSTART:20260430T180000Z
DTEND:20260430T190000Z
SUMMARY:Gathering
DESCRIPTION:
URL:https://www.palmettofuneralgroup.com/obituaries/barbara-stegelmann
LOCATION:Fish Market 990 Market St  Fort Mill SC 29708
GEO:35.0277879;-80.9689456
END:VEVENT
END:VCALENDAR