BEGIN:VCALENDAR
VERSION:2.0
PRODID:-//Tukios.com/
BEGIN:VEVENT
UID:4072cec2-315e-44b6-ac7f-bc0176068723@www.palmettofuneralgroup.com
DTSTAMP:20260421T211057Z
DTSTART:20260430T170000Z
DTEND:20260430T180000Z
SUMMARY:Celebration of Life
DESCRIPTION:
URL:https://www.palmettofuneralgroup.com/obituaries/barbara-stegelmann
LOCATION:Palmetto Funeral Home 2049 Carolina Place Drive  Fort Mill SC 
	29708
GEO:35.0349276;-80.9658282
END:VEVENT
END:VCALENDAR